Workbook

Sheet Saturday
A1: Saturday Morning - Qualifying Heat #1 | J1: Race Sponsor
A2: Loading boats at 7:30 AM
A3: Women's Qualifiers #1 | B3: Time | C3: Lane | D3: Crew | E3: Time | F3: Place | H3: count of the crews
A4: Round | B4: 1 | C4: 1 | D4: Lethbridge College Kodiaks women's team | E4: 0.0019215278 | F4: 2 | H4: 1
A5: Time | B5: 0.33333333 | C5: 2 | D5: What Time Is It? Happy Hour | E5: 0.0018309028 | F5: 1 | H5: 2
A6: Division | B6: Women's | C6: 3 | D6: WTF?! Where's The Finish?! | E6: 0.0020078704 | F6: 3 | H6: 3
A7: Sponsor | B7: ATB Financial | C7: 4 | D7: YWise Women in a Boat | E7: 0.0022296296 | F7: 4 | H7: 4
A9: Women's Qualifiers #1 | B9: Time | C9: Lane | D9: Crew | E9: Time | F9: Place
A10: Round | B10: =B4+1 -> 2 | C10: 1 | D10: NautiGals | E10: 0.0018658565 | F10: 1 | H10: 5
A11: Time | B11: =B5+10/24/60 -> 0.34027778 | C11: 2 | D11: Abreast of 'bridge | E11: 0.0019303241 | F11: 2 | H11: 6
A12: Division | B12: Women's | C12: 3 | D12: Busting with Energy | E12: 0.002040625 | F12: 4 | H12: 7
A13: Sponsor | B13: Audiology First | C13: 4 | D13: Abreast in the Rockies | E13: 0.0019472222 | F13: 3 | H13: 8
A15: Women's Qualifiers #1 | B15: Time | C15: Lane | D15: Crew | E15: Time | F15: Place
A16: Round | B16: =B10+1 -> 3 | C16: 1 | D16: Phoenix | E16: 0.0017216435 | F16: 2 | H16: 9
A17: Time | B17: =B11+10/24/60 -> 0.34722222 | C17: 2 | D17: Sistership Daenerys | E17: 0.0018443287 | F17: 3 | H17: 10
A18: Division | B18: Women's | C18: 3 | D18: Blazing Paddles | E18: 0.0017193287 | F18: 1 | H18: 11
A19: Sponsor | B19: ULSU | C19: 4 | D19: Breast Friends | E19: 0.0018921296 | F19: 4 | H19: 12
A21: Women's Qualifiers #1 | B21: Time | C21: Lane | D21: Crew | E21: Time | F21: Place
A22: Round | B22: =B16+1 -> 4 | C22: 1 | H22: 13
A23: Time | B23: =B17+10/24/60 -> 0.35416667 | C23: 2 | D23: For The Win | E23: 0.0018645833 | F23: 3 | H23: 14
A24: Division | B24: Women's | C24: 3 | D24: Yahoo Angels | E24: 0.0016269676 | F24: 2 | H24: 15
A25: Sponsor | B25: Atco Gas | C25: 4 | D25: Dragnum Bad Buoys | E25: 0.0016137731 | F25: 1 | H25: 16
A27: Women's Qualifiers #1 | B27: Time | C27: Lane | D27: Crew | E27: Time | F27: Place
A28: Round | B28: =B22+1 -> 5 | C28: 1 | D28: Kootenay Rhythm Dragons LOL | E28: 0.0018358796 | F28: 3 | H28: 17
A29: Time | B29: =B23+10/24/60 -> 0.36111111 | C29: 2 | D29: Sistership Phoenix | E29: 0.0018142361 | F29: 2 | H29: 18
A30: Division | B30: Women's | C30: 3 | D30: EDBRC Wahine Kei Waka | E30: 0.0017837963 | F30: 1 | H30: 19
A31: Sponsor | B31: City of Lethbridge | C31: 4 | D31: Sister Power | E31: 0.0019893519 | F31: 4 | H31: 20
A33: Women's Qualifiers #1 | B33: Time | C33: Lane | D33: Crew | E33: Time | F33: Place
A34: Round | B34: =B28+1 -> 6 | C34: 1 | H34: 21
A35: Time | B35: =B29+10/24/60 -> 0.36805556 | C35: 2 | D35: Victorious Secret | E35: 0.0017458333 | F35: 1 | H35: 22
A36: Division | B36: Women's | C36: 3 | D36: Wake My Day | E36: 0.0017820602 | F36: 2 | H36: 23
A37: Sponsor | B37: Big Rock | C37: 4 | D37: Wood'n Eye | E37: 0.0018268519 | F37: 3 | H37: 24
A39: Women's Qualifiers #1 | B39: Time | C39: Lane | D39: Crew | E39: Time | F39: Place
A40: Round | B40: =B34+1 -> 7 | C40: 1 | H40: 25
A41: Time | B41: =B35+10/24/60 -> 0.375 | C41: 2 | D41: Team Miles | E41: 0.0018606481 | F41: 1 | H41: 26
A42: Division | B42: Women's | C42: 3 | D42: Snapdragons | E42: 0.0020175926 | F42: 2 | H42: 27
A43: Sponsor | B43: Newway Motor Sports | C43: 4 | D43: Thunderstrokes | E43: 0.0020585648 | F43: 3 | H43: 28
H44: 7 rounds of womens
A45: 10 Minute Break 9:05 AM - 9:15 AM
A47: Mixed Qualifiers #1 | C47: Lane | D47: Crew | E47: Time | F47: Place
A48: Round | B48: =B40+1 -> 8 | C48: 1 | D48: #Dragonourtail | E48: 0.0017825231 | F48: 2 | H48: 1
A49: Time | B49: 0.38888889 | C49: 2 | D49: ATCO Flame 'N' Dragons | E49: 0.0018152778 | F49: 3 | H49: 2
A50: Division | B50: Mixed | C50: 3 | D50: Burton & Co. Screamin' Sea Men | E50: 0.0019174769 | F50: 4 | H50: 3
A51: Sponsor | B51: Visit Lethbridge | C51: 4 | D51: Dragon Blades | E51: 0.0017011574 | F51: 1 | H51: 4
A53: Mixed Qualifiers #1 | C53: Lane | D53: Crew | E53: Time | F53: Place
A54: Round | B54: =B48+1 -> 9 | C54: 1 | D54: Catch 22 | E54: 0.0016146991 | F54: 1 | H54: 5
A55: Time | B55: =B49+10/24/60 -> 0.39583333 | C55: 2 | D55: Klippers | E55: 0.0016609954 | F55: 2 | H55: 6
A56: Division | B56: Mixed | C56: 3 | D56: Prairie Fire | E56: 0.0018306713 | F56: 3 | H56: 7
A57: Sponsor | B57: Flaman | C57: 4 | D57: Happy Hour ~ After Hours | E57: 0.0018800926 | F57: 4 | H57: 8
A59: Mixed Qualifiers #1 | C59: Lane | D59: Crew | E59: Time | F59: Place
A60: Round | B60: =B54+1 -> 10 | C60: 1 | D60: LFS Bravehearts | E60: 0.0018125 | F60: 1 | H60: 9
A61: Time | B61: =B55+10/24/60 -> 0.40277778 | C61: 2 | D61: Dragon Masters | E61: 0.0018834491 | F61: 2 | H61: 10
A62: Division | B62: Mixed | C62: 3 | D62: KPMG Blue Divide | E62: 0.0019016204 | F62: 3 | H62: 11
A63: Sponsor | B63: CTV | C63: 4 | D63: Quest Support Services Dragons | E63: 0.0019525463 | F63: 4 | H63: 12
A65: Mixed Qualifiers #1 | C65: Lane | D65: Crew | E65: Time | F65: Place
A66: Round | B66: =B60+1 -> 11 | C66: 1 | D66: Galko Gators | E66: 0.0017789352 | F66: 3 | H66: 13
A67: Time | B67: =B61+10/24/60 -> 0.40972222 | C67: 2 | D67: CDBC Crew Yahoo | E67: 0.0015489583 | F67: 2 | H67: 14
A68: Division | B68: Mixed | C68: 3 | D68: Quiet Riot | E68: 0.0015243056 | F68: 1 | H68: 15
A69: Sponsor | B69: Global | C69: 4 | D69: Peak Offshore Warriors | E69: 0.0018621528 | F69: 4 | H69: 16
A71: Mixed Qualifiers #1 | C71: Lane | D71: Crew | E71: Time | F71: Place
A72: Round | B72: =B66+1 -> 12 | C72: 1 | H72: 17
A73: Time | B73: =B67+10/24/60 -> 0.41666667 | C73: 2 | D73: Lethbridge Leftovers | E73: 0.0017648148 | F73: 2 | H73: 18
A74: Division | B74: Mixed | C74: 3 | D74: High Level Canoes and Kayaks | E74: 0.0018643519 | F74: 3 | H74: 19
A75: Sponsor | B75: B93.3 | C75: 4 | D75: Raunchy Rodents | E75: 0.0017188657 | F75: 1 | H75: 20
A77: Mixed Qualifiers #1 | C77: Lane | D77: Crew | E77: Time | F77: Place
A78: Round | B78: =B72+1 -> 13 | C78: 1 | D78: DRAGNUM - Dragon Boat Calgary | E78: 0.0015804398 | F78: 1 | H78: 21
A79: Time | B79: =B73+10/24/60 -> 0.42361111 | C79: 2 | D79: AHS Sync or Swim | E79: 0.0020424769 | F79: 4 | H79: 22
A80: Division | B80: Mixed | C80: 3 | D80: Rudder Chaos | E80: 0.0018357639 | F80: 3 | H80: 23
A81: Sponsor | B81: Country 95 | C81: 4 | D81: U of L Pronghorn Paddlers | E81: 0.0018091435 | F81: 2 | H81: 24
A83: Mixed Qualifiers #1 | C83: Lane | D83: Crew | E83: Time | F83: Place
A84: Round | B84: =B78+1 -> 14 | C84: 1 | D84: Uncivil Serpents | E84: 0.0017009259 | F84: 2 | H84: 25
A85: Time | B85: =B79+10/24/60 -> 0.43055556 | C85: 2 | D85: Doritos Torpedoes | E85: 0.0017627315 | F85: 3 | H85: 26
A86: Division | B86: Mixed | C86: 3 | D86: Prairie Dragons - Pond Scum | E86: 0.0015732639 | F86: 1 | H86: 27
A87: Sponsor | B87: Audiology First | C87: 4 | D87: Snapping Turtles | E87: 0.0020141204 | F87: 4 | H87: 28
A89: Mixed Qualifiers #1 | C89: Lane | D89: Crew | E89: Time | F89: Place
A90: Round | B90: =B84+1 -> 15 | C90: 1 | D90: Eldorado Fun Finders | E90: 0.0017206019 | F90: 2 | H90: 29
A91: Time | B91: =B85+10/24/60 -> 0.4375 | C91: 2 | D91: ATB Blue Bayou | E91: 0.0017422454 | F91: 3 | H91: 30
A92: Division | B92: Mixed | C92: 3 | D92: Spartans | E92: 0.0016342593 | F92: 1 | H92: 31
A93: Sponsor | B93: El Dorado | C93: 4 | D93: Henderson Lakers | E93: 0.00186875 | F93: 4 | H93: 32
A95: Mixed Qualifiers #1 | C95: Lane | D95: Crew | E95: Time | F95: Place
A96: Round | B96: =B90+1 -> 16 | C96: 1 | D96: Paddlin' Yotes | E96: 0.0019596065 | F96: 4 | H96: 33
A97: Time | B97: =B91+10/24/60 -> 0.44444444 | C97: 2 | D97: Waverunners | E97: 0.0017224537 | F97: 2 | H97: 34
A98: Division | B98: Mixed | C98: 3 | D98: Rocksteady | E98: 0.0018137731 | F98: 3 | H98: 35
A99: Sponsor | B99: Kiss 107 | C99: 4 | D99: U of L Fiat Dux | E99: 0.0016680556 | F99: 1 | H99: 36
A101: Mixed Qualifiers #1 | C101: Lane | D101: Crew | E101: Time | F101: Place
A102: Round | B102: =B96+1 -> 17 | C102: 1 | H102: 37
A103: Time | B103: =B97+10/24/60 -> 0.45138889 | C103: 2 | D103: Red Eyes Paddling Club | E103: 0.0017207176 | F103: 2 | H103: 38
A104: Division | B104: Mixed | C104: 3 | D104: Bozeman Vikings Dragon Boat Team | E104: 0.0015803241 | F104: 1 | H104: 39
A105: Sponsor | B105: Rock 106 | C105: 4 | D105: Holy Ship | E105: 0.0021083333 | F105: 3 | H105: 40
A107: Mixed Qualifiers #1 | C107: Lane | D107: Crew | E107: Time | F107: Place
A108: Round | B108: =B102+1 -> 18 | C108: 1 | H108: 41
A109: Time | B109: =B103+10/24/60 -> 0.45833333 | C109: 2 | D109: Impavidus Draconis Paddling Club (Team ID) | E109: 0.0018060185 | F109: 1 | H109: 42
A110: Division | B110: Mixed | C110: 3 | D110: Distilled Liquor Co. | E110: 0.0018284722 | F110: 3 | H110: 43
A111: Sponsor | B111: CJOC 94.1 | C111: 4 | D111: Best Western Oarfins | E111: 0.0018210648 | F111: 2 | H111: 44
H112: 11 rounds of mixed
A113: C Cup | C113: Lane | D113: Crew | E113: Time | F113: Place
A114: Round | B114: =B108+1 -> 19 | C114: 0 | D114: Breast Friends (BLACK 1) | E114: 0.0019453704 | F114: 3
A115: Time | B115: 0.47916667 | C115: 1 | D115: Abreast in the Rockies (RED 1) | E115: 0.0020630787 | F115: 5
A116: Division | B116: Crew Challenges | C116: 2 | D116: Abreast of 'bridge (RED 2) | E116: 0.0020024306 | F116: 4
A117: Sponsor | B117: Flaman | C117: 3 | D117: Busting with Energy (RED 3) | E117: 0.0020869213 | F117: 6
...

Sheet Guts & Glory
A1: Boat | B1: Crew | C1: Start | D1: Finish | E1: Time | F1: Order
A2: 1 | B2: Quiet Riot | C2: 0.00081412037 | D2: 0.007650463 | E2: 0.0068363426 | F2: 1
A3: 2 | B3: CDBC Crew Yahoo | C3: 0.00071377315 | D3: 0.007662037 | E3: 0.0069482639 | F3: 2
A4: 3 | B4: Prairie Dragons Pond Scum (June 16 10:58 pm) | C4: 0.00047951389 | D4: 0.0075578704 | E4: 0.0070783565 | F4: 3
A5: 4 | B5: Bozeman Vikings | C5: 0.00059143519 | D5: 0.007974537 | E5: 0.0073831019 | F5: 4
A6: 1 | B6: Spartans | C6: 0.0003505787 | D6: 0.0081481481 | E6: 0.0077975694 | F6: 5
A7: 2 | B7: EDBRC Wahine Kei Waka | C7: 0.00023425926 | D7: 0.0083680556 | E7: 0.0081337963 | F7: 6
A8: 3 | B8: Abreast of 'bridge | C8: 0 | D8: 0.0084837963 | E8: 0.0084837963 | F8: 7
A9: 4 | B9: Sistership Daenerys (June 17 12:38 am) | C9: 0.00011863426 | D9: 0.0087744213 | E9: 0.008655787 | F9: 8

Sheet Saturday Standings
A1: Div Order | B1: Total Order | C1: Crew | D1: Local? | E1: Cat | F1: Heat 1 | G1: Heat 2 | H1: Sum
A2: 1 | B2: 1 | C2: Quiet Riot | E2: Mixed | F2: 0.0015243056 | G2: 0.0015684028 | H2: 0.0030927083
A3: 2 | B3: 2 | C3: CDBC Crew Yahoo | E3: Mixed | F3: 0.0015489583 | G3: 0.0015769676 | H3: 0.0031259259
A4: 3 | B4: 3 | C4: Bozeman Vikings Dragon Boat Team | E4: Mixed | F4: 0.0015803241 | G4: 0.0015787037 | H4: 0.0031590278
A5: 4 | B5: 4 | C5: DRAGNUM - Dragon Boat Calgary | E5: Mixed | F5: 0.0015804398 | G5: 0.0015935185 | H5: 0.0031739583
A6: 5 | B6: 5 | C6: Prairie Dragons - Pond Scum | E6: Mixed | F6: 0.0015732639 | G6: 0.0016788194 | H6: 0.0032520833
A7: 6 | B7: 7 | C7: Catch 22 | E7: Mixed | F7: 0.0016146991 | G7: 0.0016737269 | H7: 0.0032884259
A8: 7 | B8: 9 | C8: Spartans | E8: Mixed | F8: 0.0016342593 | G8: 0.0016983796 | H8: 0.0033326389
A9: 8 | B9: 10 | C9: Klippers | D9: 1 | E9: Mixed | F9: 0.0016609954 | G9: 0.0016952546 | H9: 0.00335625
A10: 9 | B10: 11 | C10: U of L Fiat Dux | D10: 1 | E10: Mixed | F10: 0.0016680556 | G10: 0.0017337963 | H10: 0.0034018519
A11: 10 | B11: 12 | C11: Red Eyes Paddling Club | E11: Mixed | F11: 0.0017207176 | G11: 0.0017030093 | H11: 0.0034237269
A12: 11 | B12: 13 | C12: Dragon Blades | E12: Mixed | F12: 0.0017011574 | G12: 0.0017685185 | H12: 0.0034696759
A13: 12 | B13: 14 | C13: Waverunners | E13: Mixed | F13: 0.0017224537 | G13: 0.0017570602 | H13: 0.0034795139
A14: 13 | B14: 15 | C14: Uncivil Serpents | E14: Mixed | F14: 0.0017009259 | G14: 0.0018210648 | H14: 0.0035219907
A15: 14 | B15: 17 | C15: Eldorado Fun Finders | D15: 1 | E15: Mixed | F15: 0.0017206019 | G15: 0.0018071759 | H15: 0.0035277778
A16: 15 | B16: 20 | C16: Raunchy Rodents | E16: Mixed | F16: 0.0017188657 | G16: 0.0018195602 | H16: 0.0035384259
A17: 16 | B17: 21 | C17: Doritos Torpedoes | D17: 1 | E17: Mixed | F17: 0.0017627315 | G17: 0.0017883102 | H17: 0.0035510417
A18: 17 | B18: 22 | C18: Lethbridge Leftovers | E18: Mixed | F18: 0.0017648148 | G18: 0.0018039352 | H18: 0.00356875
A19: 18 | B19: 23 | C19: ATB Blue Bayou | E19: Mixed | F19: 0.0017422454 | G19: 0.0018506944 | H19: 0.0035929398
A20: 19 | B20: 24 | C20: Galko Gators | E20: Mixed | F20: 0.0017789352 | G20: 0.0018184028 | H20: 0.003597338
A21: 20 | B21: 26 | C21: ATCO Flame 'N' Dragons | E21: Mixed | F21: 0.0018152778 | G21: 0.0018010417 | H21: 0.0036163194
A22: 21 | B22: 28 | C22: Rocksteady | E22: Mixed | F22: 0.0018137731 | G22: 0.0018167824 | H22: 0.0036305556
A23: 22 | B23: 29 | C23: #Dragonourtail | E23: Mixed | F23: 0.0017825231 | G23: 0.0018581019 | H23: 0.003640625
A24: 23 | B24: 30 | C24: Peak Offshore Warriors | E24: Mixed | F24: 0.0018621528 | G24: 0.001790625 | H24: 0.0036527778
A25: 24 | B25: 31 | C25: Impavidus Draconis Paddling Club (Team ID) | E25: Mixed | F25: 0.0018060185 | G25: 0.0018537037 | H25: 0.0036597222
A26: 25 | B26: 32 | C26: Best Western Oarfins | E26: Mixed | F26: 0.0018210648 | G26: 0.0018491898 | H26: 0.0036702546
A27: 26 | B27: 33 | C27: U of L Pronghorn Paddlers | E27: Mixed | F27: 0.0018091435 | G27: 0.0018653935 | H27: 0.003674537
A28: 27 | B28: 34 | C28: Prairie Fire | E28: Mixed | F28: 0.0018306713 | G28: 0.0018476852 | H28: 0.0036783565
A29: 28 | B29: 35 | C29: LFS Bravehearts | E29: Mixed | F29: 0.0018125 | G29: 0.00188125 | H29: 0.00369375
... A42: 41 | B42: 64 | C42: Holy Ship | E42: Mixed | F42: 0.0021083333 | G42: 0.0021913194 | H42: 0.0042996528
A43: 1 | B43: 6 | C43: Dragnum Bad Buoys | E43: Women | F43: =SUMIF(Saturday!$D$4:$D$43,$C43,Saturday!$E$4:$E$43) -> 0.0016137731 | G43: =SUMIF(Saturday!$D$128:$D$168,$C43,Saturday!$E$128:$E$168) -> 0.0016663194 | H43: =SUM(F43:G43) -> 0.0032800926
A44: 2 | B44: 8 | C44: Yahoo Angels | E44: Women | F44: =SUMIF(Saturday!$D$4:$D$43,$C44,Saturday!$E$4:$E$43) -> 0.0016269676 | G44: =SUMIF(Saturday!$D$128:$D$168,$C44,Saturday!$E$128:$E$168) -> 0.0016851852 | H44: =SUM(F44:G44) -> 0.0033121528
A45: 3 | B45: 16 | C45: Blazing Paddles | E45: Women | F45: =SUMIF(Saturday!$D$4:$D$43,$C45,Saturday!$E$4:$E$43) -> 0.0017193287 | G45: =SUMIF(Saturday!$D$128:$D$168,$C45,Saturday!$E$128:$E$168) -> 0.0018055556 | H45: =SUM(F45:G45) -> 0.0035248843
A46: 4 | B46: 18 | C46: Victorious Secret | E46: Women | F46: =SUMIF(Saturday!$D$4:$D$43,$C46,Saturday!$E$4:$E$43) -> 0.0017458333 | G46: =SUMIF(Saturday!$D$128:$D$168,$C46,Saturday!$E$128:$E$168) -> 0.0017861111 | H46: =SUM(F46:G46) -> 0.0035319444
A47: 5 | B47: 19 | C47: Phoenix | E47: Women | F47: =SUMIF(Saturday!$D$4:$D$43,$C47,Saturday!$E$4:$E$43) -> 0.0017216435 | G47: =SUMIF(Saturday!$D$128:$D$168,$C47,Saturday!$E$128:$E$168) -> 0.0018155093 | H47: =SUM(F47:G47) -> 0.0035371528
A48: 6 | B48: 25 | C48: Wake My Day | E48: Women | F48: =SUMIF(Saturday!$D$4:$D$43,$C48,Saturday!$E$4:$E$43) -> 0.0017820602 | G48: =SUMIF(Saturday!$D$128:$D$168,$C48,Saturday!$E$128:$E$168) -> 0.001819213 | H48: =SUM(F48:G48) -> 0.0036012731
A49: 7 | B49: 27 | C49: EDBRC Wahine Kei Waka | E49: Women | F49: =SUMIF(Saturday!$D$4:$D$43,$C49,Saturday!$E$4:$E$43) -> 0.0017837963 | G49: =SUMIF(Saturday!$D$128:$D$168,$C49,Saturday!$E$128:$E$168) -> 0.0018371528 | H49: =SUM(F49:G49) -> 0.0036209491
A50: 8 | B50: 37 | C50: Sistership Phoenix | E50: Women | F50: =SUMIF(Saturday!$D$4:$D$43,$C50,Saturday!$E$4:$E$43) -> 0.0018142361 | G50: =SUMIF(Saturday!$D$128:$D$168,$C50,Saturday!$E$128:$E$168) -> 0.0019100694 | H50: =SUM(F50:G50) -> 0.0037243056
A51: 9 | B51: 39 | C51: Wood'n Eye | E51: Women | F51: =SUMIF(Saturday!$D$4:$D$43,$C51,Saturday!$E$4:$E$43) -> 0.0018268519 | G51: =SUMIF(Saturday!$D$128:$D$168,$C51,Saturday!$E$128:$E$168) -> 0.0019216435 | H51: =SUM(F51:G51) -> 0.0037484954
A52: 10 | B52: 40 | C52: What Time Is It? Happy Hour | D52: 1 | E52: Women | F52: =SUMIF(Saturday!$D$4:$D$43,$C52,Saturday!$E$4:$E$43) -> 0.0018309028 | G52: =SUMIF(Saturday!$D$128:$D$168,$C52,Saturday!$E$128:$E$168) -> 0.0019228009 | H52: =SUM(F52:G52) -> 0.0037537037
A53: 11 | B53: 44 | C53: Sistership Daenerys | E53: Women | F53: =SUMIF(Saturday!$D$4:$D$43,$C53,Saturday!$E$4:$E$43) -> 0.0018443287 | G53: =SUMIF(Saturday!$D$128:$D$168,$C53,Saturday!$E$128:$E$168) -> 0.0019575231 | H53: =SUM(F53:G53) -> 0.0038018519
A54: 12 | B54: 45 | C54: Team Miles | E54: Women | F54: =SUMIF(Saturday!$D$4:$D$43,$C54,Saturday!$E$4:$E$43) -> 0.0018606481 | G54: =SUMIF(Saturday!$D$128:$D$168,$C54,Saturday!$E$128:$E$168) -> 0.001947338 | H54: =SUM(F54:G54) -> 0.0038079861
A55: 13 | B55: 47 | C55: Kootenay Rhythm Dragons LOL | E55: Women | F55: =SUMIF(Saturday!$D$4:$D$43,$C55,Saturday!$E$4:$E$43) -> 0.0018358796 | G55: =SUMIF(Saturday!$D$128:$D$168,$C55,Saturday!$E$128:$E$168) -> 0.0020128472 | H55: =SUM(F55:G55) -> 0.0038487269
A56: 14 | B56: 48 | C56: For The Win | E56: Women | F56: =SUMIF(Saturday!$D$4:$D$43,$C56,Saturday!$E$4:$E$43) -> 0.0018645833 | G56: =SUMIF(Saturday!$D$128:$D$168,$C56,Saturday!$E$128:$E$168) -> 0.0019936343 | H56: =SUM(F56:G56) -> 0.0038582176
A57: 15 | B57: 50 | C57: NautiGals | D57: 1 | E57: Women | F57: =SUMIF(Saturday!$D$4:$D$43,$C57,Saturday!$E$4:$E$43) -> 0.0018658565 | G57: =SUMIF(Saturday!$D$128:$D$168,$C57,Saturday!$E$128:$E$168) -> 0.0019966435 | H57: =SUM(F57:G57) -> 0.0038625
A58: 16 | B58: 52 | C58: Breast Friends | E58: Women | F58: =SUMIF(Saturday!$D$4:$D$43,$C58,Saturday!$E$4:$E$43) -> 0.0018921296 | G58: =SUMIF(Saturday!$D$128:$D$168,$C58,Saturday!$E$128:$E$168) -> 0.0020127315 | H58: =SUM(F58:G58) -> 0.0039048611
A59: 17 | B59: 53 | C59: Lethbridge College Kodiaks women's team | D59: 1 | E59: Women | F59: =SUMIF(Saturday!$D$4:$D$43,$C59,Saturday!$E$4:$E$43) -> 0.0019215278 | G59: =SUMIF(Saturday!$D$128:$D$168,$C59,Saturday!$E$128:$E$168) -> 0.0020030093 | H59: =SUM(F59:G59) -> 0.003924537
A60: 18 | B60: 54 | C60: Abreast of 'bridge | D60: 1 | E60: Women | F60: =SUMIF(Saturday!$D$4:$D$43,$C60,Saturday!$E$4:$E$43) -> 0.0019303241 | G60: =SUMIF(Saturday!$D$128:$D$168,$C60,Saturday!$E$128:$E$168) -> 0.0020377315 | H60: =SUM(F60:G60) -> 0.0039680556
A61: 19 | B61: 56 | C61: Abreast in the Rockies | E61: Women | F61: =SUMIF(Saturday!$D$4:$D$43,$C61,Saturday!$E$4:$E$43) -> 0.0019472222 | G61: =SUMIF(Saturday!$D$128:$D$168,$C61,Saturday!$E$128:$E$168) -> 0.0020393519 | H61: =SUM(F61:G61) -> 0.0039865741
A62: 20 | B62: 59 | C62: WTF?! Where's The Finish?! | E62: Women | F62: =SUMIF(Saturday!$D$4:$D$43,$C62,Saturday!$E$4:$E$43) -> 0.0020078704 | G62: =SUMIF(Saturday!$D$128:$D$168,$C62,Saturday!$E$128:$E$168) -> 0.0020890046 | H62: =SUM(F62:G62) -> 0.004096875
A63: 21 | B63: 60 | C63: Sister Power | E63: Women | F63: =SUMIF(Saturday!$D$4:$D$43,$C63,Saturday!$E$4:$E$43) -> 0.0019893519 | G63: =SUMIF(Saturday!$D$128:$D$168,$C63,Saturday!$E$128:$E$168) -> 0.0021091435 | H63: =SUM(F63:G63) -> 0.0040984954
A64: 22 | B64: 62 | C64: Snapdragons | E64: Women | F64: =SUMIF(Saturday!$D$4:$D$43,$C64,Saturday!$E$4:$E$43) -> 0.0020175926 | G64: =SUMIF(Saturday!$D$128:$D$168,$C64,Saturday!$E$128:$E$168) -> 0.0021275463 | H64: =SUM(F64:G64) -> 0.0041451389
A65: 23 | B65: 63 | C65: Busting with Energy | E65: Women | F65: =SUMIF(Saturday!$D$4:$D$43,$C65,Saturday!$E$4:$E$43) -> 0.002040625 | G65: =SUMIF(Saturday!$D$128:$D$168,$C65,Saturday!$E$128:$E$168) -> 0.0021634259 | H65: =SUM(F65:G65) -> 0.0042040509
A66: 24 | B66: 65 | C66: Thunderstrokes | E66: Women | F66: =SUMIF(Saturday!$D$4:$D$43,$C66,Saturday!$E$4:$E$43) -> 0.0020585648 | G66: =SUMIF(Saturday!$D$128:$D$168,$C66,Saturday!$E$128:$E$168) -> 0.0022636574 | H66: =SUM(F66:G66) -> 0.0043222222
A67: 25 | B67: 66 | C67: YWise Women in a Boat | E67: Women | F67: =SUMIF(Saturday!$D$4:$D$43,$C67,Saturday!$E$4:$E$43) -> 0.0022296296 | G67: =SUMIF(Saturday!$D$128:$D$168,$C67,Saturday!$E$128:$E$168) -> 0.0023950231 | H67: =SUM(F67:G67) -> 0.0046246528

Sheet Sunday
A1: Sunday Morning - Semifinals
A2: Combined times from qualifers seed crews into semifinals; fastest times get fastest lanes.
A3: Loading boats at 7:30 AM
A4: Mixed E Semifinals | C4: Placed | D4: Lane | E4: Crew | F4: Time | G4: Place
A5: Round | B5: =Saturday!B253+1 -> 41 | D5: 1
A6: Time | B6: 0.33333333 | C6: 38 | D6: 2 | E6: =VLOOKUP(C6,'Saturday Standings'!$A$2:$C$42,3) -> Paddlin' Yotes | F6: 0.0019613426 | G6: 2
A7: Division | B7: Mixed | C7: 35 | D7: 3 | E7: =VLOOKUP(C7,'Saturday Standings'!$A$2:$C$42,3) -> Burton & Co. Screamin' Sea Men | F7: 0.0019016204 | G7: 1
A8: Sponsor | B8: Audiology First | C8: 41 | D8: 4 | E8: =VLOOKUP(C8,'Saturday Standings'!$A$2:$C$42,3) -> Holy Ship | F8: 0.0021010417 | G8: 3
G9: =IFERROR(RANK(F9,$F$5:$F$9,1),"")
A10: Mixed E Semifinals | C10: Placed | D10: Lane | E10: Crew | F10: Time | G10: Place
A11: Round | B11: =B5+1 -> 42 | D11: 1
A12: Time | B12: =B6+10/24/60 -> 0.34027778 | C12: 37 | D12: 2 | E12: =VLOOKUP(C12,'Saturday Standings'!$A$2:$C$42,3) -> Quest Support Services Dragons | F12: 0.0019395833 | G12: 2
A13: Division | B13: Mixed | C13: =8+2+8+8+8 -> 34 | D13: 3 | E13: =VLOOKUP(C13,'Saturday Standings'!$A$2:$C$42,3) -> Happy Hour ~ After Hours | F13: 0.001821875 | G13: 1
A14: Sponsor | B14: ULSU | C14: 40 | D14: 4 | E14: =VLOOKUP(C14,'Saturday Standings'!$A$2:$C$42,3) -> Snapping Turtles | F14: 0.001944213 | G14: 3
G15: =IFERROR(RANK(F15,$F$11:$F$15,1),"")
A16: Mixed E Semifinals | C16: Placed | D16: Lane | E16: Crew | F16: Time | G16: Place
A17: Round | B17: =B11+1 -> 43 | D17: 1
A18: Time | B18: =B12+10/24/60 -> 0.34722222 | C18: 36 | D18: 2 | E18: =VLOOKUP(C18,'Saturday Standings'!$A$2:$C$42,3) -> KPMG Blue Divide | F18: 0.0018392361 | G18: 1
A19: Division | B19: Mixed | C19: =8+1+8+8+8 -> 33 | D19: 3 | E19: =VLOOKUP(C19,'Saturday Standings'!$A$2:$C$42,3) -> Dragon Masters | F19: 0.0018685185 | G19: 2
A20: Sponsor | B20: ATB Financial | C20: 39 | D20: 4 | E20: =VLOOKUP(C20,'Saturday Standings'!$A$2:$C$42,3) -> AHS Sync or Swim | F20: 0.0019730324 | G20: 3
A22: Mixed D Semifinals | C22: Placed | D22: Lane | E22: Crew | F22: Time | G22: Place
A23: Round | B23: =B17+1 -> 44 | C23: =8+8+8+8 -> 32 | D23: 1 | E23: =VLOOKUP(C23,'Saturday Standings'!$A$2:$C$42,3) -> High Level Canoes and Kayaks | F23: 0.0017863426 | G23: 3
A24: Time | B24: =B18+10/24/60 -> 0.35416667 | C24: =8+4+8+8 -> 28 | D24: 2 | E24: =VLOOKUP(C24,'Saturday Standings'!$A$2:$C$42,3) -> LFS Bravehearts | F24: 0.0018048611 | G24: 4
A25: Division | B25: Mixed | C25: =8+2+8+8 -> 26 | D25: 3 | E25: =VLOOKUP(C25,'Saturday Standings'!$A$2:$C$42,3) -> U of L Pronghorn Paddlers | F25: 0.0017855324 | G25: 2
A26: Sponsor | B26: Atco Gas | C26: =8+6+8+8 -> 30 | D26: 4 | E26: =VLOOKUP(C26,'Saturday Standings'!$A$2:$C$42,3) -> Henderson Lakers | F26: 0.0017739583 | G26: 1
A28: Mixed D Semifinals | C28: Placed | D28: Lane | E28: Crew | F28: Time | G28: Place
A29: Round | B29: =B23+1 -> 45 | C29: =8+7+8+8 -> 31 | D29: 1 | E29: =VLOOKUP(C29,'Saturday Standings'!$A$2:$C$42,3) -> Rudder Chaos | F29: 0.0018063657 | G29: 3
A30: Time | B30: =B24+10/24/60 -> 0.36111111 | C30: =8+3+8+8 -> 27 | D30: 2 | E30: =VLOOKUP(C30,'Saturday Standings'!$A$2:$C$42,3) -> Prairie Fire | F30: 0.0018125 | G30: 4
A31: Division | B31: Mixed | C31: =8+1+8+8 -> 25 | D31: 3 | E31: =VLOOKUP(C31,'Saturday Standings'!$A$2:$C$42,3) -> Best Western Oarfins | F31: 0.0018017361 | G31: 2
A32: Sponsor | B32: City of Lethbridge | C32: =8+5+8+8 -> 29 | D32: 4 | E32: =VLOOKUP(C32,'Saturday Standings'!$A$2:$C$42,3) -> Distilled Liquor Co. | F32: 0.0017454861 | G32: 1
A34: Women's C Semifinals | C34: Placed | D34: Lane | E34: Crew | F34: Time | G34: Place
A35: Round | B35: =B29+1 -> 46 | D35: 1
A36: Time | B36: =B30+10/24/60 -> 0.36805556 | C36: 22 | D36: 2 | E36: =VLOOKUP(C36,'Saturday Standings'!$A$43:$C$67,3) -> Snapdragons | F36: 0.0020415509 | G36: 3
A37: Division | B37: Women's | C37: 19 | D37: 3 | E37: =VLOOKUP(C37,'Saturday Standings'!$A$43:$C$67,3) -> Abreast in the Rockies | F37: 0.0019386574 | G37: 1
A38: Sponsor | B38: Big Rock | C38: 25 | D38: 4 | E38: =VLOOKUP(C38,'Saturday Standings'!$A$43:$C$67,3) -> YWise Women in a Boat | F38: 0.0019583333 | G38: 2
A40: Women's C Semifinals | C40: Placed | D40: Lane | E40: Crew | F40: Time | G40: Place
A41: Round | B41: =B35+1 -> 47 | D41: 1
A42: Time | B42: =B36+10/24/60 -> 0.375 | C42: 21 | D42: 2 | E42: =VLOOKUP(C42,'Saturday Standings'!$A$43:$C$67,3) -> Sister Power | F42: 0.0020054398 | G42: 3
A43: Division | B43: Women's | C43: =8+2+8 -> 18 | D43: 3 | E43: =VLOOKUP(C43,'Saturday Standings'!$A$43:$C$67,3) -> Abreast of 'bridge | F43: 0.0019603009 | G43: 1
A44: Sponsor | B44: Newway Motor Sports | C44: 24 | D44: 4 | E44: =VLOOKUP(C44,'Saturday Standings'!$A$43:$C$67,3) -> Thunderstrokes | F44: 0.0019935185 | G44: 2
A46: Women's C Semifinals | C46: Placed | D46: Lane | E46: Crew | F46: Time | G46: Place
A47: Round | B47: =B41+1 -> 48 | D47: 1
A48: Time | B48: =B42+10/24/60 -> 0.38194444 | C48: 20 | D48: 2 | E48: =VLOOKUP(C48,'Saturday Standings'!$A$43:$C$67,3) -> WTF?! Where's The Finish?! | F48: 0.0020258102 | G48: 2
A49: Division | B49: Women's | C49: =8+1+8 -> 17 | D49: 3 | E49: =VLOOKUP(C49,'Saturday Standings'!$A$43:$C$67,3) -> Lethbridge College Kodiaks women's team | F49: 0.0019274306 | G49: 1
A50: Sponsor | B50: Visit Lethbridge | C50: 23 | D50: 4 | E50: =VLOOKUP(C50,'Saturday Standings'!$A$43:$C$67,3) -> Busting with Energy | F50: 0.0021299769 | G50: 3
A52: Women's B Semifinals | C52: Placed | D52: Lane | E52: Crew | F52: Time | G52: Place
A53: Round | B53: =B47+1 -> 49 | C53: =8+8 -> 16 | D53: 1 | E53: =VLOOKUP(C53,'Saturday Standings'!$A$43:$C$67,3) -> Breast Friends | F53: 0.0019112269 | G53: 4
A54: Time | B54: =B48+10/24/60 -> 0.38888889 | C54: =8+4 -> 12 | D54: 2 | E54: =VLOOKUP(C54,'Saturday Standings'!$A$43:$C$67,3) -> Team Miles | F54: 0.0018394676 | G54: 1
A55: Division | B55: Women's | C55: =8+2 -> 10 | D55: 3 | E55: =VLOOKUP(C55,'Saturday Standings'!$A$43:$C$67,3) -> What Time Is It? Happy Hour | F55: 0.0018449074 | G55: 2
A56: Sponsor | B56: Flaman | C56: =8+6 -> 14 | D56: 4 | E56: =VLOOKUP(C56,'Saturday Standings'!$A$43:$C$67,3) -> For The Win | F56: 0.0018491898 | G56: 3
A58: Women's B Semifinals | C58: Placed | D58: Lane | E58: Crew | F58: Time | G58: Place
A59: Round | B59: =B53+1 -> 50 | C59: =8+7 -> 15 | D59: 1 | E59: =VLOOKUP(C59,'Saturday Standings'!$A$43:$C$67,3) -> NautiGals | F59: 0.0019177083 | G59: 4
A60: Time | B60: =B54+10/24/60 -> 0.39583333 | C60: =8+3 -> 11 | D60: 2 | E60: =VLOOKUP(C60,'Saturday Standings'!$A$43:$C$67,3) -> Sistership Daenerys | F60: 0.0018918981 | G60: 2
A61: Division | B61: Women's | C61: =8+1 -> 9 | D61: 3 | E61: =VLOOKUP(C61,'Saturday Standings'!$A$43:$C$67,3) -> Wood'n Eye | F61: 0.001887963 | G61: 1
A62: Sponsor | B62: CTV | C62: =8+5 -> 13 | D62: 4 | E62: =VLOOKUP(C62,'Saturday Standings'!$A$43:$C$67,3) -> Kootenay Rhythm Dragons LOL | F62: 0.00189375 | G62: 3
A64: Women's A Semifinals | C64: Placed | D64: Lane | E64: Crew | F64: Time | G64: Place
A65: Round | B65: =B59+1 -> 51 | C65: 8 | D65: 1 | E65: =VLOOKUP(C65,'Saturday Standings'!$A$43:$C$67,3) -> Sistership Phoenix | F65: 0.0019167824 | G65: 4
A66: Time | B66: =B60+10/24/60 -> 0.40277778 | C66: 4 | D66: 2 | E66: =VLOOKUP(C66,'Saturday Standings'!$A$43:$C$67,3) -> Victorious Secret | F66: 0.0017775463 | G66: 2
A67: Division | B67: Women's | C67: 2 | D67: 3 | E67: =VLOOKUP(C67,'Saturday Standings'!$A$43:$C$67,3) -> Yahoo Angels | F67: 0.0016930556 | G67: 1
A68: Sponsor | B68: Global | C68: 6 | D68: 4 | E68: =VLOOKUP(C68,'Saturday Standings'!$A$43:$C$67,3) -> Wake My Day | F68: 0.0018141204 | G68: 3
A70: Women's A Semifinals | C70: Placed | D70: Lane | E70: Crew | F70: Time | G70: Place
A71: Round | B71: =B65+1 -> 52 | C71: 7 | D71: 1 | E71: =VLOOKUP(C71,'Saturday Standings'!$A$43:$C$67,3) -> EDBRC Wahine Kei Waka | F71: 0.0018577546 | G71: 4
A72: Time | B72: =B66+10/24/60 -> 0.40972222 | C72: 3 | D72: 2 | E72: =VLOOKUP(C72,'Saturday Standings'!$A$43:$C$67,3) -> Blazing Paddles | F72: 0.0017740741 | G72: 2
A73: Division | B73: Women's | C73: 1 | D73: 3 | E73: =VLOOKUP(C73,'Saturday Standings'!$A$43:$C$67,3) -> Dragnum Bad Buoys | F73: 0.0016996528 | G73: 1
A74: Sponsor | B74: Pogo Bros | C74: 5 | D74: 4 | E74: =VLOOKUP(C74,'Saturday Standings'!$A$43:$C$67,3) -> Phoenix | F74: 0.0017833333 | G74: 3
A76: 20 Minute Break 10:00 AM - 10:20 AM
A78: Mixed C Semifinals | C78: Placed | D78: Lane | E78: Crew | F78: Time | G78: Place
A79: Round | B79: =B71+1 -> 53 | C79: =8+8+8 -> 24 | D79: 1 | E79: =VLOOKUP(C79,'Saturday Standings'!$A$2:$C$42,3) -> Impavidus Draconis Paddling Club (Team ID) | F79: 0.0018487269 | G79: 3
A80: Time | B80: 0.4375 | C80: =8+4+8 -> 20 | D80: 2 | E80: =VLOOKUP(C80,'Saturday Standings'!$A$2:$C$42,3) -> ATCO Flame 'N' Dragons | F80: 0.0018623843 | G80: 4
A81: Division | B81: Mixed | C81: =8+2+8 -> 18 | D81: 3 | E81: =VLOOKUP(C81,'Saturday Standings'!$A$2:$C$42,3) -> ATB Blue Bayou | F81: 0.0018326389 | G81: 2
A82: Sponsor | B82: Audiology First | C82: =8+6+8 -> 22 | D82: 4 | E82: =VLOOKUP(C82,'Saturday Standings'!$A$2:$C$42,3) -> #Dragonourtail | F82: 0.0018025463 | G82: 1
A84: Mixed C Semifinals | C84: Placed | D84: Lane | E84: Crew | F84: Time | G84: Place
A85: Round | B85: =B79+1 -> 54 | C85: =8+7+8 -> 23 | D85: 1 | E85: =VLOOKUP(C85,'Saturday Standings'!$A$2:$C$42,3) -> Peak Offshore Warriors | F85: 0.0018353009 | G85: 1
A86: Time | B86: =B80+10/24/60 -> 0.44444444 | C86: =8+3+8 -> 19 | D86: 2 | E86: =VLOOKUP(C86,'Saturday Standings'!$A$2:$C$42,3) -> Galko Gators | F86: 0.0022574074 | G86: 4
A87: Division | B87: Mixed | C87: =8+1+8 -> 17 | D87: 3 | E87: =VLOOKUP(C87,'Saturday Standings'!$A$2:$C$42,3) -> Lethbridge Leftovers | F87: 0.0018354167 | G87: 2
A88: Sponsor | B88: ULSU | C88: =8+5+8 -> 21 | D88: 4 | E88: =VLOOKUP(C88,'Saturday Standings'!$A$2:$C$42,3) -> Rocksteady | F88: 0.0018813657 | G88: 3
A90: Mixed B Semifinals | C90: Placed | D90: Lane | E90: Crew | F90: Time | G90: Place
A91: Round | B91: =B85+1 -> 55 | C91: =8+8 -> 16 | D91: 1 | E91: =VLOOKUP(C91,'Saturday Standings'!$A$2:$C$42,3) -> Doritos Torpedoes | F91: 0.0017657407 | G91: 3
A92: Time | B92: =B86+10/24/60 -> 0.45138889 | C92: =8+4 -> 12 | D92: 2 | E92: =VLOOKUP(C92,'Saturday Standings'!$A$2:$C$42,3) -> Waverunners | F92: 0.0017383102 | G92: 2
A93: Division | B93: Mixed | C93: =8+2 -> 10 | D93: 3 | E93: =VLOOKUP(C93,'Saturday Standings'!$A$2:$C$42,3) -> Red Eyes Paddling Club | F93: 0.0016971065 | G93: 1
A94: Sponsor | B94: Kiss 107 & Rock 106 | C94: =8+6 -> 14 | D94: 4 | E94: =VLOOKUP(C94,'Saturday Standings'!$A$2:$C$42,3) -> Eldorado Fun Finders | F94: 0.0018474537 | G94: 4
A96: Mixed B Semifinals | C96: Placed | D96: Lane | E96: Crew | F96: Time | G96: Place
A97: Round | B97: =B91+1 -> 56 | C97: =8+7 -> 15 | D97: 1 | E97: =VLOOKUP(C97,'Saturday Standings'!$A$2:$C$42,3) -> Raunchy Rodents | F97: 0.0018033565 | G97: 3
A98: Time | B98: =B92+10/24/60 -> 0.45833333 | C98: =8+3 -> 11 | D98: 2 | E98: =VLOOKUP(C98,'Saturday Standings'!$A$2:$C$42,3) -> Dragon Blades | F98: 0.0018137731 | G98: 4
A99: Division | B99: Mixed | C99: =8+1 -> 9 | D99: 3 | E99: =VLOOKUP(C99,'Saturday Standings'!$A$2:$C$42,3) -> U of L Fiat Dux | F99: 0.0017458333 | G99: 1
A100: Sponsor | B100: CJOC and The Bridge | C100: =8+5 -> 13 | D100: 4 | E100: =VLOOKUP(C100,'Saturday Standings'!$A$2:$C$42,3) -> Uncivil Serpents | F100: 0.0017601852 | G100: 2
A102: Mixed A Semifinals | C102: Placed | D102: Lane | E102: Crew | F102: Time | G102: Place
A103: Round | B103: =B97+1 -> 57 | C103: 8 | D103: 1 | E103: =VLOOKUP(C103,'Saturday Standings'!$A$2:$C$42,3) -> Klippers | F103: 0.0017300926 | G103: 4
A104: Time | B104: =B98+10/24/60 -> 0.46527778 | C104: 4 | D104: 2 | E104: =VLOOKUP(C104,'Saturday Standings'!$A$2:$C$42,3) -> DRAGNUM - Dragon Boat Calgary | F104: 0.0016282407 | G104: 2
A105: Division | B105: Mixed | C105: 2 | D105: 3 | E105: =VLOOKUP(C105,'Saturday Standings'!$A$2:$C$42,3) -> CDBC Crew Yahoo | F105: 0.0016108796 | G105: 1
A106: Sponsor | B106: B93 and Country 95 | C106: 6 | D106: 4 | E106: =VLOOKUP(C106,'Saturday Standings'!$A$2:$C$42,3) -> Catch 22 | F106: 0.001662963 | G106: 3
A108: Mixed A Semifinals | C108: Placed | D108: Lane | E108: Crew | F108: Time | G108: Place
A109: Round | B109: =B103+1 -> 58 | C109: 7 | D109: 1 | E109: =VLOOKUP(C109,'Saturday Standings'!$A$2:$C$42,3) -> Spartans | F109: 0.0016930556 | G109: 4
A110: Time | B110: =B104+10/24/60 -> 0.47222222 | C110: 3 | D110: 2 | E110: =VLOOKUP(C110,'Saturday Standings'!$A$2:$C$42,3) -> Bozeman Vikings Dragon Boat Team | F110: 0.0015847222 | G110: 2
A111: Division | B111: Mixed | C111: 1 | D111: 3 | E111: =VLOOKUP(C111,'Saturday Standings'!$A$2:$C$42,3) -> Quiet Riot | F111: 0.0015091435 | G111: 1
A112: Sponsor | B112: Lethbridge Herald | C112: 5 | D112: 4 | E112: =VLOOKUP(C112,'Saturday Standings'!$A$2:$C$42,3) -> Prairie Dragons - Pond Scum | F112: 0.0016178241 | G112: 3
A114: Sunday Afternoon - Finals
A115: Women's C Consolation Final | C115: Placed | D115: Lane | E115: Crew | F115: Time | G115: Place
A116: Round | B116: =B109+1 -> 59 | C116: 8th remain | D116: 1 | E116: Snapdragons | F116: 0.0021961806 | G116: 5
A117: Time | B117: =B110+10/24/60 -> 0.47916667 | C117: 5th remain | D117: 2 | E117: Thunderstrokes | F117: 0.0021135417 | G117: 2
...

Sheet Final Standings
A1: Crew Name | B1: Hometown | C1: Cat | D1: Div | E1: Plc | F1: Cat | G1: Overall | H1: Sat AM | I1: Sat PM | J1: Semi | K1: Final | L1: Sum | M1: Min | N1: Max | O1: Diff | P1: Ave
A2: Quiet Riot | B2: Calgary | C2: Mixed | D2: A | E2: 1 | F2: 1 | G2: 1 | H2: 0.0015243056 | I2: 0.0015684028 | J2: 0.0015091435 | K2: 0.0015005787 | L2: =SUM(H2:K2) -> 0.0061024306 | M2: =MIN(H2:K2) -> 0.0015005787 | N2: =MAX(H2:K2) -> 0.0015684028 | O2: =N2-M2 -> 6.7824074e-05 | P2: =AVERAGE(H2:K2) -> 0.0015256076
A3: CDBC Crew Yahoo | B3: Calgary | C3: Mixed | D3: A | E3: 2 | F3: 2 | G3: 2 | H3: 0.0015489583 | I3: 0.0015769676 | J3: 0.0016108796 | K3: 0.0015369213 | L3: =SUM(H3:K3) -> 0.0062737269 | M3: =MIN(H3:K3) -> 0.0015369213 | N3: =MAX(H3:K3) -> 0.0016108796 | O3: =N3-M3 -> 7.3958333e-05 | P3: =AVERAGE(H3:K3) -> 0.0015684317
A4: Bozeman Vikings | B4: Bozeman, MT | C4: Mixed | D4: A | E4: 3 | F4: 3 | G4: 3 | H4: 0.0015803241 | I4: 0.0015787037 | J4: 0.0015847222 | K4: 0.001578588 | L4: =SUM(H4:K4) -> 0.006322338 | M4: =MIN(H4:K4) -> 0.001578588 | N4: =MAX(H4:K4) -> 0.0015847222 | O4: =N4-M4 -> 6.1342593e-06 | P4: =AVERAGE(H4:K4) -> 0.0015805845
A5: DRAGNUM - Dragon Boat Calgary | B5: Calgary | C5: Mixed | D5: A | E5: 4 | F5: 4 | G5: 4 | H5: 0.0015804398 | I5: 0.0015935185 | J5: 0.0016282407 | K5: 0.0016125 | L5: =SUM(H5:K5) -> 0.0064146991 | M5: =MIN(H5:K5) -> 0.0015804398 | N5: =MAX(H5:K5) -> 0.0016282407 | O5: =N5-M5 -> 4.7800926e-05 | P5: =AVERAGE(H5:K5) -> 0.0016036748
A6: Prairie Dragons - Pond Scum | B6: Regina, SK | C6: Mixed | D6: A | E6: 1c | F6: 5 | G6: 5 | H6: 0.0015732639 | I6: 0.0016788194 | J6: 0.0016178241 | K6: 0.0016267361 | L6: =SUM(H6:K6) -> 0.0064966435 | M6: =MIN(H6:K6) -> 0.0015732639 | N6: =MAX(H6:K6) -> 0.0016788194 | O6: =N6-M6 -> 0.00010555556 | P6: =AVERAGE(H6:K6) -> 0.0016241609
A7: Catch 22 | B7: Edmonton | C7: Mixed | D7: A | E7: 2c | F7: 6 | G7: 6 | H7: 0.0016146991 | I7: 0.0016737269 | J7: 0.001662963 | K7: 0.0016421296 | L7: =SUM(H7:K7) -> 0.0065935185 | M7: =MIN(H7:K7) -> 0.0016146991 | N7: =MAX(H7:K7) -> 0.0016737269 | O7: =N7-M7 -> 5.9027778e-05 | P7: =AVERAGE(H7:K7) -> 0.0016483796
A8: Dragnum Bad Buoys | B8: Calgary | C8: Women | D8: A | E8: 2 | F8: 1 | G8: 7 | H8: 0.0016137731 | I8: 0.0016663194 | J8: 0.0016996528 | K8: 0.0016560185 | L8: =SUM(H8:K8) -> 0.0066357639 | M8: =MIN(H8:K8) -> 0.0016137731 | N8: =MAX(H8:K8) -> 0.0016996528 | O8: =N8-M8 -> 8.587963e-05 | P8: =AVERAGE(H8:K8) -> 0.001658941
A9: Yahoo Angels | B9: Calgary | C9: Women | D9: A | E9: 1 | F9: 2 | G9: 8 | H9: 0.0016269676 | I9: 0.0016851852 | J9: 0.0016930556 | K9: 0.0016533565 | L9: =SUM(H9:K9) -> 0.0066585648 | M9: =MIN(H9:K9) -> 0.0016269676 | N9: =MAX(H9:K9) -> 0.0016930556 | O9: =N9-M9 -> 6.6087963e-05 | P9: =AVERAGE(H9:K9) -> 0.0016646412
A10: Spartans | B10: Calgary | C10: Mixed | D10: A | E10: 4c | F10: 7 | G10: 9 | H10: 0.0016342593 | I10: 0.0016983796 | J10: 0.0016930556 | K10: 0.0017069444 | L10: =SUM(H10:K10) -> 0.0067326389 | M10: =MIN(H10:K10) -> 0.0016342593 | N10: =MAX(H10:K10) -> 0.0017069444 | O10: =N10-M10 -> 7.2685185e-05 | P10: =AVERAGE(H10:K10) -> 0.0016831597
A11: Klippers | B11: Lethbridge | C11: Mixed | D11: A | E11: 3c | F11: 8 | G11: 10 | H11: 0.0016609954 | I11: 0.0016952546 | J11: 0.0017300926 | K11: 0.0016922454 | L11: =SUM(H11:K11) -> 0.006778588 | M11: =MIN(H11:K11) -> 0.0016609954 | N11: =MAX(H11:K11) -> 0.0017300926 | O11: =N11-M11 -> 6.9097222e-05 | P11: =AVERAGE(H11:K11) -> 0.001694647
A12: Red Eyes Paddling Club | B12: Calgary | C12: Mixed | D12: B | E12: 1 | F12: 9 | G12: 11 | H12: 0.0017207176 | I12: 0.0017030093 | J12: 0.0016971065 | K12: 0.0016722222 | L12: =SUM(H12:K12) -> 0.0067930556 | M12: =MIN(H12:K12) -> 0.0016722222 | N12: =MAX(H12:K12) -> 0.0017207176 | O12: =N12-M12 -> 4.849537e-05 | P12: =AVERAGE(H12:K12) -> 0.0016982639
A13: U of L Fiat Dux | B13: Lethbridge | C13: Mixed | D13: B | E13: 2 | F13: 10 | G13: 12 | H13: 0.0016680556 | I13: 0.0017337963 | J13: 0.0017458333 | K13: 0.0016892361 | L13: =SUM(H13:K13) -> 0.0068369213 | M13: =MIN(H13:K13) -> 0.0016680556 | N13: =MAX(H13:K13) -> 0.0017458333 | O13: =N13-M13 -> 7.7777778e-05 | P13: =AVERAGE(H13:K13) -> 0.0017092303
A14: Waverunners | B14: Calgary | C14: Mixed | D14: B | E14: 4 | F14: 11 | G14: 13 | H14: 0.0017224537 | I14: 0.0017570602 | J14: 0.0017383102 | K14: 0.0017324074 | L14: =SUM(H14:K14) -> 0.0069502315 | M14: =MIN(H14:K14) -> 0.0017224537 | N14: =MAX(H14:K14) -> 0.0017570602 | O14: =N14-M14 -> 3.4606481e-05 | P14: =AVERAGE(H14:K14) -> 0.0017375579
A15: Uncivil Serpents | B15: Edmonton | C15: Mixed | D15: B | E15: 3 | F15: 12 | G15: 14 | H15: 0.0017009259 | I15: 0.0018210648 | J15: 0.0017601852 | K15: 0.0017320602 | L15: =SUM(H15:K15) -> 0.0070142361 | M15: =MIN(H15:K15) -> 0.0017009259 | N15: =MAX(H15:K15) -> 0.0018210648 | O15: =N15-M15 -> 0.00012013889 | P15: =AVERAGE(H15:K15) -> 0.001753559
A16: Dragon Blades | B16: Edmonton | C16: Mixed | D16: B | E16: 2c | F16: 13 | G16: 15 | H16: 0.0017011574 | I16: 0.0017685185 | J16: 0.0018137731 | K16: 0.0017583333 | L16: =SUM(H16:K16) -> 0.0070417824 | M16: =MIN(H16:K16) -> 0.0017011574 | N16: =MAX(H16:K16) -> 0.0018137731 | O16: =N16-M16 -> 0.00011261574 | P16: =AVERAGE(H16:K16) -> 0.0017604456
A17: Blazing Paddles | B17: Edmonton | C17: Women | D17: A | E17: 3 | F17: 3 | G17: 16 | H17: 0.0017193287 | I17: 0.0018055556 | J17: 0.0017740741 | K17: 0.0017489583 | L17: =SUM(H17:K17) -> 0.0070479167 | M17: =MIN(H17:K17) -> 0.0017193287 | N17: =MAX(H17:K17) -> 0.0018055556 | O17: =N17-M17 -> 8.6226852e-05 | P17: =AVERAGE(H17:K17) -> 0.0017619792
A18: Doritos Torpedoes | B18: Lethbridge | C18: Mixed | D18: B | E18: 1c | F18: 14 | G18: 17 | H18: 0.0017627315 | I18: 0.0017883102 | J18: 0.0017657407 | K18: 0.0017452546 | L18: =SUM(H18:K18) -> 0.007062037 | M18: =MIN(H18:K18) -> 0.0017452546 | N18: =MAX(H18:K18) -> 0.0017883102 | O18: =N18-M18 -> 4.3055556e-05 | P18: =AVERAGE(H18:K18) -> 0.0017655093
A19: Victorious Secret | B19: Calgary | C19: Women | D19: A | E19: 4 | F19: 4 | G19: 18 | H19: 0.0017458333 | I19: 0.0017861111 | J19: 0.0017775463 | K19: 0.001756713 | L19: =SUM(H19:K19) -> 0.0070662037 | M19: =MIN(H19:K19) -> 0.0017458333 | N19: =MAX(H19:K19) -> 0.0017861111 | O19: =N19-M19 -> 4.0277778e-05 | P19: =AVERAGE(H19:K19) -> 0.0017665509
A20: Raunchy Rodents | B20: Edmonton | C20: Mixed | D20: B | E20: 3c | F20: 15 | G20: 19 | H20: 0.0017188657 | I20: 0.0018195602 | J20: 0.0018033565 | K20: 0.001775 | L20: =SUM(H20:K20) -> 0.0071167824 | M20: =MIN(H20:K20) -> 0.0017188657 | N20: =MAX(H20:K20) -> 0.0018195602 | O20: =N20-M20 -> 0.00010069444 | P20: =AVERAGE(H20:K20) -> 0.0017791956
A21: Phoenix | B21: Edmonton | C21: Women | D21: A | E21: 1c | F21: 5 | G21: 20 | H21: 0.0017216435 | I21: 0.0018155093 | J21: 0.0017833333 | K21: 0.0018319444 | L21: =SUM(H21:K21) -> 0.0071524306 | M21: =MIN(H21:K21) -> 0.0017216435 | N21: =MAX(H21:K21) -> 0.0018319444 | O21: =N21-M21 -> 0.00011030093 | P21: =AVERAGE(H21:K21) -> 0.0017881076
A22: Lethbridge Leftovers | B22: Lethbridge | C22: Mixed | D22: C | E22: 3 | F22: 16 | G22: 21 | H22: 0.0017648148 | I22: 0.0018039352 | J22: 0.0018354167 | K22: 0.001794213 | L22: =SUM(H22:K22) -> 0.0071983796 | M22: =MIN(H22:K22) -> 0.0017648148 | N22: =MAX(H22:K22) -> 0.0018354167 | O22: =N22-M22 -> 7.0601852e-05 | P22: =AVERAGE(H22:K22) -> 0.0017995949
A23: Eldorado Fun Finders | B23: Lethbridge | C23: Mixed | D23: B | E23: 4c | F23: 17 | G23: 22 | H23: 0.0017206019 | I23: 0.0018071759 | J23: 0.0018474537 | K23: 0.0018351852 | L23: =SUM(H23:K23) -> 0.0072104167 | M23: =MIN(H23:K23) -> 0.0017206019 | N23: =MAX(H23:K23) -> 0.0018474537 | O23: =N23-M23 -> 0.00012685185 | P23: =AVERAGE(H23:K23) -> 0.0018026042
A24: #Dragonourtail | B24: Lethbridge | C24: Mixed | D24: C | E24: 1 | F24: 18 | G24: 23 | H24: 0.0017825231 | I24: 0.0018581019 | J24: 0.0018025463 | K24: 0.0017756944 | L24: =SUM(H24:K24) -> 0.0072188657 | M24: =MIN(H24:K24) -> 0.0017756944 | N24: =MAX(H24:K24) -> 0.0018581019 | O24: =N24-M24 -> 8.2407407e-05 | P24: =AVERAGE(H24:K24) -> 0.0018047164
A25: Distilled Liquor Co. | B25: Lethbridge | C25: Mixed | D25: D | E25: 2 | F25: 19 | G25: 24 | H25: 0.0018284722 | I25: 0.001872338 | J25: 0.0017454861 | K25: 0.001778125 | L25: =SUM(H25:K25) -> 0.0072244213 | M25: =MIN(H25:K25) -> 0.0017454861 | N25: =MAX(H25:K25) -> 0.001872338 | O25: =N25-M25 -> 0.00012685185 | P25: =AVERAGE(H25:K25) -> 0.0018061053
A26: Henderson Lakers | B26: Lethbridge | C26: Mixed | D26: D | E26: 1 | F26: 20 | G26: 25 | H26: 0.00186875 | I26: 0.0018645833 | J26: 0.0017739583 | K26: 0.0017534722 | L26: =SUM(H26:K26) -> 0.0072607639 | M26: =MIN(H26:K26) -> 0.0017534722 | N26: =MAX(H26:K26) -> 0.00186875 | O26: =N26-M26 -> 0.00011527778 | P26: =AVERAGE(H26:K26) -> 0.001815191
A27: Best Western Oarfins | B27: Lethbridge | C27: Mixed | D27: D | E27: 3 | F27: 21 | G27: 26 | H27: 0.0018210648 | I27: 0.0018491898 | J27: 0.0018017361 | K27: 0.0018009259 | L27: =SUM(H27:K27) -> 0.0072729167 | M27: =MIN(H27:K27) -> 0.0018009259 | N27: =MAX(H27:K27) -> 0.0018491898 | O27: =N27-M27 -> 4.8263889e-05 | P27: =AVERAGE(H27:K27) -> 0.0018182292
A28: ATB Blue Bayou | B28: Lethbridge | C28: Mixed | D28: C | E28: 4 | F28: 22 | G28: 27 | H28: 0.0017422454 | I28: 0.0018506944 | J28: 0.0018326389 | K28: 0.0018524306 | L28: =SUM(H28:K28) -> 0.0072780093 | M28: =MIN(H28:K28) -> 0.0017422454 | N28: =MAX(H28:K28) -> 0.0018524306 | O28: =N28-M28 -> 0.00011018519 | P28: =AVERAGE(H28:K28) -> 0.0018195023
A29: Peak Offshore Warriors | B29: Lethbridge | C29: Mixed | D29: C | E29: 2 | F29: 23 | G29: 28 | H29: 0.0018621528 | I29: 0.001790625 | J29: 0.0018353009 | K29: 0.0017915509 | L29: =SUM(H29:K29) -> 0.0072796296 | M29: =MIN(H29:K29) -> 0.001790625 | N29: =MAX(H29:K29) -> 0.0018621528 | O29: =N29-M29 -> 7.1527778e-05 | P29: =AVERAGE(H29:K29) -> 0.0018199074
A30: Wake My Day | B30: Calgary | C30: Women | D30: A | E30: 3c | F30: 6 | G30: 29 | H30: 0.0017820602 | I30: 0.001819213 | J30: 0.0018141204 | K30: 0.001868287 | L30: =SUM(H30:K30) -> 0.0072836806 | M30: =MIN(H30:K30) -> 0.0017820602 | N30: =MAX(H30:K30) -> 0.001868287 | O30: =N30-M30 -> 8.6226852e-05 | P30: =AVERAGE(H30:K30) -> 0.0018209201
A31: U of L Pronghorn Paddlers | B31: Lethbridge | C31: Mixed | D31: D | E31: 4 | F31: 24 | G31: 30 | H31: 0.0018091435 | I31: 0.0018653935 | J31: 0.0017855324 | K31: 0.0018434028 | L31: =SUM(H31:K31) -> 0.0073034722 | M31: =MIN(H31:K31) -> 0.0017855324 | N31: =MAX(H31:K31) -> 0.0018653935 | O31: =N31-M31 -> 7.9861111e-05 | P31: =AVERAGE(H31:K31) -> 0.0018258681
A32: ATCO Flame 'N' Dragons | B32: Lethbridge | C32: Mixed | D32: C | E32: 1c | F32: 25 | G32: 31 | H32: 0.0018152778 | I32: 0.0018010417 | J32: 0.0018623843 | K32: 0.001844213 | L32: =SUM(H32:K32) -> 0.0073229167 | M32: =MIN(H32:K32) -> 0.0018010417 | N32: =MAX(H32:K32) -> 0.0018623843 | O32: =N32-M32 -> 6.1342593e-05 | P32: =AVERAGE(H32:K32) -> 0.0018307292
A33: EDBRC Wahine Kei Waka | B33: Edmonton | C33: Women | D33: A | E33: 2c | F33: 7 | G33: 32 | H33: 0.0017837963 | I33: 0.0018371528 | J33: 0.0018577546 | K33: 0.001862037 | L33: =SUM(H33:K33) -> 0.0073407407 | M33: =MIN(H33:K33) -> 0.0017837963 | N33: =MAX(H33:K33) -> 0.001862037 | O33: =N33-M33 -> 7.8240741e-05 | P33: =AVERAGE(H33:K33) -> 0.0018351852
A34: Prairie Fire | B34: Medicine Hat | C34: Mixed | D34: D | E34: 2c | F34: 26 | G34: 33 | H34: 0.0018306713 | I34: 0.0018476852 | J34: 0.0018125 | K34: 0.0018736111 | L34: =SUM(H34:K34) -> 0.0073644676 | M34: =MIN(H34:K34) -> 0.0018125 | N34: =MAX(H34:K34) -> 0.0018736111 | O34: =N34-M34 -> 6.1111111e-05 | P34: =AVERAGE(H34:K34) -> 0.0018411169
A35: LFS Bravehearts | B35: Lethbridge | C35: Mixed | D35: D | E35: 3c | F35: 27 | G35: 34 | H35: 0.0018125 | I35: 0.00188125 | J35: 0.0018048611 | K35: 0.0018739583 | L35: =SUM(H35:K35) -> 0.0073725694 | M35: =MIN(H35:K35) -> 0.0018048611 | N35: =MAX(H35:K35) -> 0.00188125 | O35: =N35-M35 -> 7.6388889e-05 | P35: =AVERAGE(H35:K35) -> 0.0018431424
A36: Rocksteady | B36: Calgary | C36: Mixed | D36: C | E36: 3c | F36: 28 | G36: 35 | H36: 0.0018137731 | I36: 0.0018167824 | J36: 0.0018813657 | K36: 0.0018824074 | L36: =SUM(H36:K36) -> 0.0073943287 | M36: =MIN(H36:K36) -> 0.0018137731 | N36: =MAX(H36:K36) -> 0.0018824074 | O36: =N36-M36 -> 6.8634259e-05 | P36: =AVERAGE(H36:K36) -> 0.0018485822
A37: High Level Canoes and Kayaks | B37: Lethbridge | C37: Mixed | D37: D | E37: 1c | F37: 29 | G37: 36 | H37: 0.0018643519 | I37: 0.0019194444 | J37: 0.0017863426 | K37: 0.0018284722 | L37: =SUM(H37:K37) -> 0.0073986111 | M37: =MIN(H37:K37) -> 0.0017863426 | N37: =MAX(H37:K37) -> 0.0019194444 | O37: =N37-M37 -> 0.00013310185 | P37: =AVERAGE(H37:K37) -> 0.0018496528
A38: Impavidus Draconis Paddling Club | B38: Lethbridge | C38: Mixed | D38: C | E38: 4c | F38: 30 | G38: 37 | H38: 0.0018060185 | I38: 0.0018537037 | J38: 0.0018487269 | K38: 0.001906713 | L38: =SUM(H38:K38) -> 0.007415162 | M38: =MIN(H38:K38) -> 0.0018060185 | N38: =MAX(H38:K38) -> 0.001906713 | O38: =N38-M38 -> 0.00010069444 | P38: =AVERAGE(H38:K38) -> 0.0018537905
A39: Rudder Chaos | B39: Lethbridge | C39: Mixed | D39: D | E39: 4c | F39: 31 | G39: 38 | H39: 0.0018357639 | I39: 0.0019390046 | J39: 0.0018063657 | K39: 0.0018762731 | L39: =SUM(H39:K39) -> 0.0074574074 | M39: =MIN(H39:K39) -> 0.0018063657 | N39: =MAX(H39:K39) -> 0.0019390046 | O39: =N39-M39 -> 0.00013263889 | P39: =AVERAGE(H39:K39) -> 0.0018643519
A40: What Time Is It? Happy Hour | B40: Lethbridge | C40: Women | D40: B | E40: 1 | F40: 8 | G40: 39 | H40: 0.0018309028 | I40: 0.0019228009 | J40: 0.0018449074 | K40: 0.0018809028 | L40: =SUM(H40:K40) -> 0.0074795139 | M40: =MIN(H40:K40) -> 0.0018309028 | N40: =MAX(H40:K40) -> 0.0019228009 | O40: =N40-M40 -> 9.1898148e-05 | P40: =AVERAGE(H40:K40) -> 0.0018698785
A41: Happy Hour ~ After Hours | B41: Lethbridge | C41: Mixed | D41: E | E41: 2 | F41: 32 | G41: 40 | H41: 0.0018800926 | I41: 0.0019548611 | J41: 0.001821875 | K41: 0.0018612269 | L41: =SUM(H41:K41) -> 0.0075180556 | M41: =MIN(H41:K41) -> 0.001821875 | N41: =MAX(H41:K41) -> 0.0019548611 | O41: =N41-M41 -> 0.00013298611 | P41: =AVERAGE(H41:K41) -> 0.0018795139
A42: Wood'n Eye | B42: Calgary | C42: Women | D42: B | E42: 2 | F42: 9 | G42: 41 | H42: 0.0018268519 | I42: 0.0019216435 | J42: 0.001887963 | K42: 0.0018835648 | L42: =SUM(H42:K42) -> 0.0075200231 | M42: =MIN(H42:K42) -> 0.0018268519 | N42: =MAX(H42:K42) -> 0.0019216435 | O42: =N42-M42 -> 9.4791667e-05 | P42: =AVERAGE(H42:K42) -> 0.0018800058
A43: Team Miles | B43: Okotoks | C43: Women | D43: B | E43: 0 | F43: 10 | G43: 42 | H43: 0.0018606481 | I43: 0.001947338 | J43: 0.0018394676 | K43: 0.0019060185 | L43: =SUM(H43:K43) -> 0.0075534722 | M43: =MIN(H43:K43) -> 0.0018394676 | N43: =MAX(H43:K43) -> 0.001947338 | O43: =N43-M43 -> 0.00010787037 | P43: =AVERAGE(H43:K43) -> 0.0018883681
A44: KPMG Blue Divide | B44: Lethbridge | C44: Mixed | D44: E | E44: 1 | F44: 33 | G44: 43 | H44: 0.0019016204 | I44: 0.0019653935 | J44: 0.0018392361 | K44: 0.001855787 | L44: =SUM(H44:K44) -> 0.007562037 | M44: =MIN(H44:K44) -> 0.0018392361 | N44: =MAX(H44:K44) -> 0.0019653935 | O44: =N44-M44 -> 0.00012615741 | P44: =AVERAGE(H44:K44) -> 0.0018905093
A45: For The Win | B45: Calgary | C45: Women | D45: B | E45: 2c | F45: 11 | G45: 44 | H45: 0.0018645833 | I45: 0.0019936343 | J45: 0.0018491898 | K45: 0.0018857639 | L45: =SUM(H45:K45) -> 0.0075931713 | M45: =MIN(H45:K45) -> 0.0018491898 | N45: =MAX(H45:K45) -> 0.0019936343 | O45: =N45-M45 -> 0.00014444444 | P45: =AVERAGE(H45:K45) -> 0.0018982928
A46: Sistership Daenerys | B46: Calgary | C46: Women | D46: B | E46: 3 | F46: 12 | G46: 45 | H46: 0.0018443287 | I46: 0.0019575231 | J46: 0.0018918981 | K46: 0.0019052083 | L46: =SUM(H46:K46) -> 0.0075989583 | M46: =MIN(H46:K46) -> 0.0018443287 | N46: =MAX(H46:K46) -> 0.0019575231 | O46: =N46-M46 -> 0.00011319444 | P46: =AVERAGE(H46:K46) -> 0.0018997396
A47: Dragon Masters | B47: Lethbridge | C47: Mixed | D47: E | E47: 4 | F47: 34 | G47: 46 | H47: 0.0018834491 | I47: 0.0019163194 | J47: 0.0018685185 | K47: 0.0019341435 | L47: =SUM(H47:K47) -> 0.0076024306 | M47: =MIN(H47:K47) -> 0.0018685185 | N47: =MAX(H47:K47) -> 0.0019341435 | O47: =N47-M47 -> 6.5625e-05 | P47: =AVERAGE(H47:K47) -> 0.0019006076
A48: Sistership Phoenix | B48: Calgary | C48: Women | D48: A | E48: 4c | F48: 13 | G48: 47 | H48: 0.0018142361 | I48: 0.0019100694 | J48: 0.0019167824 | K48: 0.0019673611 | L48: =SUM(H48:K48) -> 0.0076084491 | M48: =MIN(H48:K48) -> 0.0018142361 | N48: =MAX(H48:K48) -> 0.0019673611 | O48: =N48-M48 -> 0.000153125 | P48: =AVERAGE(H48:K48) -> 0.0019021123
A49: Kootenay Rhythm Dragons LOL | B49: Nelson, BC | C49: Women | D49: B | E49: 1c | F49: 14 | G49: 48 | H49: 0.0018358796 | I49: 0.0020128472 | J49: 0.00189375 | K49: 0.0018837963 | L49: =SUM(H49:K49) -> 0.0076262731 | M49: =MIN(H49:K49) -> 0.0018358796 | N49: =MAX(H49:K49) -> 0.0020128472 | O49: =N49-M49 -> 0.00017696759 | P49: =AVERAGE(H49:K49) -> 0.0019065683
A50: Burton & Co. Screamin' Sea Men | B50: Lethbridge | C50: Mixed | D50: E | E50: 3 | F50: 35 | G50: 49 | H50: 0.0019174769 | I50: 0.0019445602 | J50: 0.0019016204 | K50: 0.0018712963 | L50: =SUM(H50:K50) -> 0.0076349537 | M50: =MIN(H50:K50) -> 0.0018712963 | N50: =MAX(H50:K50) -> 0.0019445602 | O50: =N50-M50 -> 7.3263889e-05 | P50: =AVERAGE(H50:K50) -> 0.0019087384
A51: NautiGals | B51: Lethbridge | C51: Women | D51: B | E51: 4c | F51: 15 | G51: 50 | H51: 0.0018658565 | I51: 0.0019966435 | J51: 0.0019177083 | K51: 0.0019244213 | L51: =SUM(H51:K51) -> 0.0077046296 | M51: =MIN(H51:K51) -> 0.0018658565 | N51: =MAX(H51:K51) -> 0.0019966435 | O51: =N51-M51 -> 0.00013078704 | P51: =AVERAGE(H51:K51) -> 0.0019261574
A52: Galko Gators | B52: Lethbridge | C52: Mixed | D52: C | E52: 2c | F52: 36 | G52: 51 | H52: 0.0017789352 | I52: 0.0018184028 | J52: 0.0022574074 | K52: 0.0018600694 | L52: =SUM(H52:K52) -> 0.0077148148 | M52: =MIN(H52:K52) -> 0.0017789352 | N52: =MAX(H52:K52) -> 0.0022574074 | O52: =N52-M52 -> 0.00047847222 | P52: =AVERAGE(H52:K52) -> 0.0019287037
A53: Breast Friends | B53: Edmonton | C53: Women | D53: B | E53: 3c | F53: 16 | G53: 52 | H53: 0.0018921296 | I53: 0.0020127315 | J53: 0.0019112269 | K53: 0.0019217593 | L53: =SUM(H53:K53) -> 0.0077378472 | M53: =MIN(H53:K53) -> 0.0018921296 | N53: =MAX(H53:K53) -> 0.0020127315 | O53: =N53-M53 -> 0.00012060185 | P53: =AVERAGE(H53:K53) -> 0.0019344618
A54: Lethbridge College Kodiaks | B54: Lethbridge | C54: Women | D54: C | E54: 1 | F54: 17 | G54: 53 | H54: 0.0019215278 | I54: 0.0020030093 | J54: 0.0019274306 | K54: 0.0019584491 | L54: =SUM(H54:K54) -> 0.0078104167 | M54: =MIN(H54:K54) -> 0.0019215278 | N54: =MAX(H54:K54) -> 0.0020030093 | O54: =N54-M54 -> 8.1481481e-05 | P54: =AVERAGE(H54:K54) -> 0.0019526042
A55: Abreast of 'bridge | B55: Lethbridge | C55: Women | D55: C | E55: 3 | F55: 18 | G55: 54 | H55: 0.0019303241 | I55: 0.0020377315 | J55: 0.0019603009 | K55: 0.0020128472 | L55: =SUM(H55:K55) -> 0.0079412037 | M55: =MIN(H55:K55) -> 0.0019303241 | N55: =MAX(H55:K55) -> 0.0020377315 | O55: =N55-M55 -> 0.00010740741 | P55: =AVERAGE(H55:K55) -> 0.0019853009
A56: Abreast in the Rockies | B56: Cranbrook, BC | C56: Women | D56: C | E56: 4 | F56: 19 | G56: 55 | H56: 0.0019472222 | I56: 0.0020393519 | J56: 0.0019386574 | K56: 0.0020189815 | L56: =SUM(H56:K56) -> 0.007944213 | M56: =MIN(H56:K56) -> 0.0019386574 | N56: =MAX(H56:K56) -> 0.0020393519 | O56: =N56-M56 -> 0.00010069444 | P56: =AVERAGE(H56:K56) -> 0.0019860532
A57: Quest Support Services Dragons | B57: Lethbridge | C57: Mixed | D57: E | E57: 2c | F57: 37 | G57: 56 | H57: 0.0019525463 | I57: 0.002025463 | J57: 0.0019395833 | K57: 0.0020479167 | L57: =SUM(H57:K57) -> 0.0079655093 | M57: =MIN(H57:K57) -> 0.0019395833 | N57: =MAX(H57:K57) -> 0.0020479167 | O57: =N57-M57 -> 0.00010833333 | P57: =AVERAGE(H57:K57) -> 0.0019913773
A58: Snapping Turtles | B58: Lethbridge | C58: Mixed | D58: E | E58: 1c | F58: 38 | G58: 57 | H58: 0.0020141204 | I58: 0.0020863426 | J58: 0.001944213 | K58: 0.0019912037 | L58: =SUM(H58:K58) -> 0.0080358796 | M58: =MIN(H58:K58) -> 0.001944213 | N58: =MAX(H58:K58) -> 0.0020863426 | O58: =N58-M58 -> 0.00014212963 | P58: =AVERAGE(H58:K58) -> 0.0020089699
A59: Paddlin' Yotes | B59: Lethbridge | C59: Mixed | D59: E | E59: 3c | F59: 39 | G59: 58 | H59: 0.0019596065 | I59: 0.0020644676 | J59: 0.0019613426 | K59: 0.002071875 | L59: =SUM(H59:K59) -> 0.0080572917 | M59: =MIN(H59:K59) -> 0.0019596065 | N59: =MAX(H59:K59) -> 0.002071875 | O59: =N59-M59 -> 0.00011226852 | P59: =AVERAGE(H59:K59) -> 0.0020143229
A60: AHS Sync or Swim | B60: Lethbridge | C60: Mixed | D60: E | E60: 4c | F60: 40 | G60: 59 | H60: 0.0020424769 | I60: 0.0020532407 | J60: 0.0019730324 | K60: 0.0020861111 | L60: =SUM(H60:K60) -> 0.0081548611 | M60: =MIN(H60:K60) -> 0.0019730324 | N60: =MAX(H60:K60) -> 0.0020861111 | O60: =N60-M60 -> 0.0001130787 | P60: =AVERAGE(H60:K60) -> 0.0020387153
A61: WTF?! Where's The Finish?! | B61: Lethbridge | C61: Women | D61: C | E61: 1c | F61: 20 | G61: 60 | H61: 0.0020078704 | I61: 0.0020890046 | J61: 0.0020258102 | K61: 0.002112037 | L61: =SUM(H61:K61) -> 0.0082347222 | M61: =MIN(H61:K61) -> 0.0020078704 | N61: =MAX(H61:K61) -> 0.002112037 | O61: =N61-M61 -> 0.00010416667 | P61: =AVERAGE(H61:K61) -> 0.0020586806
A62: Sister Power | B62: Medicine Hat | C62: Women | D62: C | E62: 3c | F62: 21 | G62: 61 | H62: 0.0019893519 | I62: 0.0021091435 | J62: 0.0020054398 | K62: 0.002131713 | L62: =SUM(H62:K62) -> 0.0082356481 | M62: =MIN(H62:K62) -> 0.0019893519 | N62: =MAX(H62:K62) -> 0.002131713 | O62: =N62-M62 -> 0.00014236111 | P62: =AVERAGE(H62:K62) -> 0.002058912
A63: Snapdragons | B63: Medicine Hat | C63: Women | D63: C | E63: 5c | F63: 22 | G63: 62 | H63: 0.0020175926 | I63: 0.0021275463 | J63: 0.0020415509 | K63: 0.0021961806 | L63: =SUM(H63:K63) -> 0.0083828704 | M63: =MIN(H63:K63) -> 0.0020175926 | N63: =MAX(H63:K63) -> 0.0021961806 | O63: =N63-M63 -> 0.00017858796 | P63: =AVERAGE(H63:K63) -> 0.0020957176
A64: Thunderstrokes | B64: Medicine Hat | C64: Women | D64: C | E64: 2c | F64: 23 | G64: 63 | H64: 0.0020585648 | I64: 0.0022636574 | J64: 0.0019935185 | K64: 0.0021135417 | L64: =SUM(H64:K64) -> 0.0084292824 | M64: =MIN(H64:K64) -> 0.0019935185 | N64: =MAX(H64:K64) -> 0.0022636574 | O64: =N64-M64 -> 0.00027013889 | P64: =AVERAGE(H64:K64) -> 0.0021073206
A65: Busting with Energy | B65: Saskatoon, SK | C65: Women | D65: C | E65: 4c | F65: 24 | G65: 64 | H65: 0.002040625 | I65: 0.0021634259 | J65: 0.0021299769 | K65: 0.0021583333 | L65: =SUM(H65:K65) -> 0.0084923611 | M65: =MIN(H65:K65) -> 0.002040625 | N65: =MAX(H65:K65) -> 0.0021634259 | O65: =N65-M65 -> 0.00012280093 | P65: =AVERAGE(H65:K65) -> 0.0021230903
A66: YWise Women in a Boat | B66: Lethbridge | C66: Women | D66: C | E66: 2 | F66: 25 | G66: 65 | H66: 0.0022296296 | I66: 0.0023950231 | J66: 0.0019583333 | K66: 0.0019827546 | L66: =SUM(H66:K66) -> 0.0085657407 | M66: =MIN(H66:K66) -> 0.0019583333 | N66: =MAX(H66:K66) -> 0.0023950231 | O66: =N66-M66 -> 0.00043668981 | P66: =AVERAGE(H66:K66) -> 0.0021414352
A67: Holy Ship | B67: Lethbridge | C67: Mixed | D67: E | E67: 5c | F67: 41 | G67: 66 | H67: 0.0021083333 | I67: 0.0021913194 | J67: 0.0021010417 | K67: 0.0021748843 | L67: =SUM(H67:K67) -> 0.0085755787 | M67: =MIN(H67:K67) -> 0.0021010417 | N67: =MAX(H67:K67) -> 0.0021913194 | O67: =N67-M67 -> 9.0277778e-05 | P67: =AVERAGE(H67:K67) -> 0.0021438947

Sheet Crews by City
A3: Row Labels | B3: Count of Crew Name
A4: Lethbridge | B4: 33
A5: Calgary | B5: 15
A6: Edmonton | B6: 8
A7: Medicine Hat | B7: 4
A8: Okotoks | B8: 1
A9: Saskatoon, SK | B9: 1
A10: Regina, SK | B10: 1
A11: Cranbrook, BC | B11: 1
A12: Bozeman, MT | B12: 1
A13: Nelson, BC | B13: 1
A14: Grand Total | B14: 66

Sheet Crews by City and Division
A3: Count of Crew Name | B3: Column Labels
A4: Row Labels | B4: Saskatoon, SK | C4: Regina, SK | D4: Okotoks | E4: Nelson, BC | F4: Medicine Hat | G4: Lethbridge | H4: Edmonton | I4: Cranbrook, BC | J4: Calgary | K4: Bozeman, MT | L4: Grand Total
A5: A | C5: 1 | G5: 1 | H5: 4 | J5: 9 | K5: 1 | L5: 16
A6: B | D6: 1 | E6: 1 | G6: 5 | H6: 4 | J6: 5 | L6: 16
A7: C | B7: 1 | F7: 3 | G7: 11 | I7: 1 | J7: 1 | L7: 17
A8: D | F8: 1 | G8: 7 | L8: 8
A9: E | G9: 9 | L9: 9
A10: Grand Total | B10: 1 | C10: 1 | D10: 1 | E10: 1 | F10: 4 | G10: 33 | H10: 8 | I10: 1 | J10: 15 | K10: 1 | L10: 66

Sheet Average Race Time by City
A3: Row Labels | B3: Average of Ave | C3: Count of Crew Name
A4: Bozeman, MT | B4: 0.0015856481 | C4: 1
A5: Regina, SK | B5: 0.0016203704 | C5: 1
A6: Calgary | B6: 0.0017438272 | C6: 15
A7: Edmonton | B7: 0.0017824074 | C7: 8
A8: Okotoks | B8: 0.0018865741 | C8: 1
A9: Lethbridge | B9: 0.0018897306 | C9: 33
A10: Nelson, BC | B10: 0.0019097222 | C10: 1
A11: Cranbrook, BC | B11: 0.0019907407 | C11: 1
A12: Medicine Hat | B12: 0.002025463 | C12: 4
A13: Saskatoon, SK | B13: 0.0021180556 | C13: 1
A14: Grand Total | B14: 0.0018483446 | C14: 66
